BEGIN:VCALENDAR
VERSION:2.0
PRODID:-//ChamberMaster//Event Calendar 2.0//EN
METHOD:PUBLISH
X-PUBLISHED-TTL:P1H
REFRESH-INTERVAL:P1H
CALSCALE:GREGORIAN
BEGIN:VTIMEZONE
TZID:America/Montreal
BEGIN:DAYLIGHT
RRULE:FREQ=YEARLY;BYMONTH=3;BYDAY=2SU
DTSTART:20070101T000000
TZOFFSETFROM:-0500
TZOFFSETTO:-0400
TZNAME:Eastern Daylight Time
END:DAYLIGHT
BEGIN:STANDARD
RRULE:FREQ=YEARLY;BYMONTH=11;BYDAY=1SU
DTSTART:20070101T000000
TZOFFSETFROM:-0400
TZOFFSETTO:-0500
TZNAME:Eastern Standard Time
END:STANDARD
END:VTIMEZONE
BEGIN:VEVENT
DTSTART;VALUE=DATE:20260508
DTEND;VALUE=DATE:20260701
TRANSP:TRANSPARENT
X-MICROSOFT-CDO-ALLDAYEVENT:TRUE
SUMMARY:En Plein Air ~ Stonington's Plein Air Art Club
DESCRIPTION:Presented in partnership with the Stonington Garden Club\, we are pleased to present an exhibit featuring the works of Stonington's Plein Air Art Club. A variety of works and styles will be on view and for sale\, with all proceeds benefiting La Grua Center's year-round programming. Come enjoy a glass of wine while you peruse the offerings\, and help support the arts in our community!\nOpening reception Friday\, May 8th\, from 5-7pm. Suggested donation $5.\nExhibit will run through the end of June. Please call for hours.\nFeatured image: "North Main Street" by Brooks A. Bentz
X-ALT-DESC;FMTTYPE=text/html:<!DOCTYPE html><html><head><title></title></head><body aria-disabled="false"><p><meta charset="utf-8"></p><p>Presented in partnership with the Stonington Garden Club\, we are pleased to present an exhibit featuring the works of Stonington&rsquo\;s Plein Air Art Club. A variety of works and styles will be on view and for sale\, with all proceeds benefiting La Grua Center&rsquo\;s year-round programming. Come enjoy a glass of wine while you peruse the offerings\, and help support the arts in our community!</p><p><br></p><p><strong fr-original-style="" style="font-weight: 700\;">Opening reception Friday\, May 8th\, from 5-7pm. Suggested donation $5.</strong></p><p><br></p><p>Exhibit will run through the end of June. Please call for hours.</p><p><br></p><p>Featured image: &ldquo\;North Main Street&rdquo\; by Brooks A. Bentz</p></body></html>
LOCATION:32 Water Street Stonington CT 06378
UID:e.2955.1446824
SEQUENCE:3
DTSTAMP:20260421T002744Z
URL:https://business.mysticchamber.org/aiworkshop/Details/en-plein-air-stonington-s-plein-air-art-club-1713634?sourceTypeId=Hub
END:VEVENT
END:VCALENDAR
