BEGIN:VCALENDAR
VERSION:2.0
PRODID:-//ChamberMaster//Event Calendar 2.0//EN
METHOD:PUBLISH
X-PUBLISHED-TTL:P1H
REFRESH-INTERVAL:P1H
CALSCALE:GREGORIAN
BEGIN:VTIMEZONE
TZID:America/Montreal
BEGIN:DAYLIGHT
RRULE:FREQ=YEARLY;BYMONTH=3;BYDAY=2SU
DTSTART:20070101T000000
TZOFFSETFROM:-0500
TZOFFSETTO:-0400
TZNAME:Eastern Daylight Time
END:DAYLIGHT
BEGIN:STANDARD
RRULE:FREQ=YEARLY;BYMONTH=11;BYDAY=1SU
DTSTART:20070101T000000
TZOFFSETFROM:-0400
TZOFFSETTO:-0500
TZNAME:Eastern Standard Time
END:STANDARD
END:VTIMEZONE
BEGIN:VEVENT
DTSTART;TZID=America/Montreal:20260516T160000
DTEND;TZID=America/Montreal:20260516T170000
X-MICROSOFT-CDO-ALLDAYEVENT:FALSE
SUMMARY:Krista and Becca Ritchie (Dangerously Ours) Author Talk and Signing
DESCRIPTION:Bank Square Books presents an author talk and signing with Krista and Becca Ritchie for their book Dangerously Ours.Unable to attend this event\, but still want a signed copy?  Purchase the book below and specify your signing and personalization request in the order comments and we will do our best to accommodate the request.Please click the RSVP button to let us know you'll be attending.About the BookIn the newest book from the New York Times bestselling authors of the Addicted series\, ex-con artist Phoebe Graves must pull off the biggest grift she's ever devised to keep her friends and family safe.Conning the rich and fleeing to new cities is all ex-grifter Phoebe Graves has ever known until she started building real relationships in a small but wealthy Connecticut town. But she's worried these new bonds won't hold fast as more than one big bad wolf threatens to blow down those she loves most.\n\nAnd now more than ever\, she has a reason to stay in one place. Among them is Brayden "Rocky" Tinrock\, her best friend's older brother\, who's been a partner to Phoebe during every daring and exhilarating con. And then of course there's Hailey Tinrock\, her best friend\, whose precious secret they'll do anything to protect. . . .\n\nAs Phoebe and her family team up with the Tinrocks to fight for a chance at a home\, they confront the demons of their pasts and must do the impossible . . . deceive the most cunning con artist they've ever known.About the AuthorsKrista and Becca Ritchie are New York Times and USA Today bestselling authors and identical twins one a science nerd\, the other a comic-book geek but with their shared passion for writing\, they combined their mental powers as kids and have never stopped telling stories. They love superheroes\, flawed characters\, and soul-mate love.
X-ALT-DESC;FMTTYPE=text/html:<!DOCTYPE html><html><head><title></title></head><body aria-disabled="false"><p><meta charset="utf-8"></p><p><meta charset="utf-8"></p><p><meta charset="utf-8"></p><p><meta charset="utf-8"></p><p><meta charset="utf-8"></p><p><meta charset="utf-8"></p><p><meta charset="utf-8"></p><div style="box-sizing: border-box\; clear: none\; grid-column: 3 / 7\; color: rgb(64\, 64\, 64)\; font-family: Roboto\, arial\, helvetica\, sans-serif\; font-size: 20.25px\; font-style: normal\; font-variant-ligatures: normal\; font-variant-caps: normal\; font-weight: 400\; letter-spacing: normal\; orphans: 2\; text-align: start\; text-indent: 0px\; text-transform: none\; widows: 2\; word-spacing: 0px\; -webkit-text-stroke-width: 0px\; white-space: normal\; text-decoration-thickness: initial\; text-decoration-style: initial\; text-decoration-color: initial\;"><div style="box-sizing: border-box\; display: flex\; flex-flow: column\;"><div style="box-sizing: border-box\; font-size: 18px\; margin-block-end: 0px\;"><meta charset="utf-8"><div style="box-sizing: border-box\; clear: none\; grid-column: 3 / 7\; color: rgb(64\, 64\, 64)\; font-family: Roboto\, arial\, helvetica\, sans-serif\; font-size: 20.25px\; font-style: normal\; font-variant-ligatures: normal\; font-variant-caps: normal\; font-weight: 400\; letter-spacing: normal\; orphans: 2\; text-align: start\; text-indent: 0px\; text-transform: none\; widows: 2\; word-spacing: 0px\; -webkit-text-stroke-width: 0px\; white-space: normal\; text-decoration-thickness: initial\; text-decoration-style: initial\; text-decoration-color: initial\;"><div style="box-sizing: border-box\; display: flex\; flex-flow: column\;"><div style="box-sizing: border-box\; font-size: 18px\; margin-block-end: 0px\;"><meta charset="utf-8"><div style="box-sizing: border-box\; clear: none\; grid-column: 3 / 7\; color: rgb(64\, 64\, 64)\; font-family: Roboto\, arial\, helvetica\, sans-serif\; font-size: 20.25px\; font-style: normal\; font-variant-ligatures: normal\; font-variant-caps: normal\; font-weight: 400\; letter-spacing: normal\; orphans: 2\; text-align: start\; text-indent: 0px\; text-transform: none\; widows: 2\; word-spacing: 0px\; -webkit-text-stroke-width: 0px\; white-space: normal\; text-decoration-thickness: initial\; text-decoration-style: initial\; text-decoration-color: initial\;"><div style="box-sizing: border-box\; display: flex\; flex-flow: column\;"><div style="box-sizing: border-box\; font-size: 18px\; margin-block-end: 0px\;"><meta charset="utf-8"><div style="box-sizing: border-box\; clear: none\; grid-column: 3 / 7\; color: rgb(64\, 64\, 64)\; font-family: Roboto\, arial\, helvetica\, sans-serif\; font-size: 20.25px\; font-style: normal\; font-variant-ligatures: normal\; font-variant-caps: normal\; font-weight: 400\; letter-spacing: normal\; orphans: 2\; text-align: start\; text-indent: 0px\; text-transform: none\; widows: 2\; word-spacing: 0px\; -webkit-text-stroke-width: 0px\; white-space: normal\; text-decoration-thickness: initial\; text-decoration-style: initial\; text-decoration-color: initial\;"><div style="box-sizing: border-box\; display: flex\; flex-flow: column\;"><div style="box-sizing: border-box\; font-size: 18px\; margin-block-end: 0px\;"><meta charset="utf-8"><div style="box-sizing: border-box\; clear: none\; grid-column: 3 / 7\; color: rgb(64\, 64\, 64)\; font-family: Roboto\, arial\, helvetica\, sans-serif\; font-size: 20.25px\; font-style: normal\; font-variant-ligatures: normal\; font-variant-caps: normal\; font-weight: 400\; letter-spacing: normal\; orphans: 2\; text-align: start\; text-indent: 0px\; text-transform: none\; widows: 2\; word-spacing: 0px\; -webkit-text-stroke-width: 0px\; white-space: normal\; text-decoration-thickness: initial\; text-decoration-style: initial\; text-decoration-color: initial\;"><div style="box-sizing: border-box\; display: flex\; flex-flow: column\;"><div style="box-sizing: border-box\; font-size: 18px\; margin-block-end: 0px\;"><meta charset="utf-8"><div style="box-sizing: border-box\; clear: none\; grid-column: 3 / 7\; color: rgb(64\, 64\, 64)\; font-family: Roboto\, arial\, helvetica\, sans-serif\; font-size: 20.25px\; font-style: normal\; font-variant-ligatures: normal\; font-variant-caps: normal\; font-weight: 400\; letter-spacing: normal\; orphans: 2\; text-align: start\; text-indent: 0px\; text-transform: none\; widows: 2\; word-spacing: 0px\; -webkit-text-stroke-width: 0px\; white-space: normal\; text-decoration-thickness: initial\; text-decoration-style: initial\; text-decoration-color: initial\;"><div style="box-sizing: border-box\; display: flex\; flex-flow: column\;"><div style="box-sizing: border-box\; font-size: 18px\; margin-block-end: 0px\;"><meta charset="utf-8"><div style="box-sizing: border-box\; clear: none\; grid-column: 3 / 7\; color: rgb(64\, 64\, 64)\; font-family: Roboto\, arial\, helvetica\, sans-serif\; font-size: 20.25px\; font-style: normal\; font-variant-ligatures: normal\; font-variant-caps: normal\; font-weight: 400\; letter-spacing: normal\; orphans: 2\; text-align: start\; text-indent: 0px\; text-transform: none\; widows: 2\; word-spacing: 0px\; -webkit-text-stroke-width: 0px\; white-space: normal\; text-decoration-thickness: initial\; text-decoration-style: initial\; text-decoration-color: initial\;"><div style="box-sizing: border-box\; display: flex\; flex-flow: column\;"><div style="box-sizing: border-box\; font-size: 18px\; margin-block-end: 0px\;"><h4 style="box-sizing: border-box\; font-size: 24px\; font-weight: 700\; line-height: 1.6\; text-align: center\;"><strong fr-original-style="box-sizing: border-box\; font-weight: bolder\;" style="box-sizing: border-box\; font-weight: bolder\;">Bank Square Books presents an author talk and signing with Krista and Becca Ritchie for their book</strong><em style="box-sizing: border-box\;"><strong fr-original-style="box-sizing: border-box\; font-weight: bolder\;" style="box-sizing: border-box\; font-weight: bolder\;">&nbsp\;Dangerously Ours.</strong></em></h4><p style="box-sizing: border-box\; text-align: center\;">Unable to attend this event\, but still want a signed copy? &nbsp\;Purchase the book below and specify your signing and personalization request in the order comments and we will do our best to accommodate the request.</p><p style="box-sizing: border-box\; text-align: center\;"><strong fr-original-style="box-sizing: border-box\; font-weight: bolder\;" style="box-sizing: border-box\; font-weight: bolder\;">Please click the RSVP button to let us know you&#39\;ll be attending.</strong></p><p style="box-sizing: border-box\;"><strong fr-original-style="box-sizing: border-box\; font-weight: bolder\;" style="box-sizing: border-box\; font-weight: bolder\;">About the Book</strong></p><p style="box-sizing: border-box\;"><strong fr-original-style="box-sizing: border-box\; font-weight: bolder\;" style="box-sizing: border-box\; font-weight: bolder\;">In the newest book from the&nbsp\;</strong><em style="box-sizing: border-box\;"><strong fr-original-style="box-sizing: border-box\; font-weight: bolder\;" style="box-sizing: border-box\; font-weight: bolder\;">New York Times&nbsp\;</strong></em><strong fr-original-style="box-sizing: border-box\; font-weight: bolder\;" style="box-sizing: border-box\; font-weight: bolder\;">bestselling authors of the Addicted series\, ex-con artist Phoebe Graves must pull off the biggest grift she&rsquo\;s ever devised to keep her friends and family safe.</strong></p><p style="box-sizing: border-box\;">Conning the rich and fleeing to new cities is all ex-grifter Phoebe Graves has ever known&mdash\;until she started building real relationships in a small but wealthy Connecticut town. But she&rsquo\;s worried these new bonds won&rsquo\;t hold fast as more than one big bad wolf threatens to blow down those she loves most.<br style="box-sizing: border-box\;"><br style="box-sizing: border-box\;">And now more than ever\, she has a reason to stay in one place. Among them is Brayden &ldquo\;Rocky&rdquo\; Tinrock\, her best friend&rsquo\;s older brother\, who&rsquo\;s been a partner to Phoebe during every daring and exhilarating con. And then of course there&rsquo\;s Hailey Tinrock\, her best friend\, whose precious secret they&rsquo\;ll do anything to protect. . . .<br style="box-sizing: border-box\;"><br style="box-sizing: border-box\;">As Phoebe and her family team up with the Tinrocks to fight for a chance at a home\, they confront the demons of their pasts and must do the impossible . . . deceive the most cunning con artist they&rsquo\;ve ever known.</p><p style="box-sizing: border-box\;"><strong fr-original-style="box-sizing: border-box\; font-weight: bolder\;" style="box-sizing: border-box\; font-weight: bolder\;">About the Authors</strong></p><p style="box-sizing: border-box\;"><strong fr-original-style="box-sizing: border-box\; font-weight: bolder\;" style="box-sizing: border-box\; font-weight: bolder\;">Krista and Becca Ritchie</strong> are&nbsp\;<em style="box-sizing: border-box\;">New York Times&nbsp\;</em>and<em style="box-sizing: border-box\;">&nbsp\;USA Today&nbsp\;</em>bestselling authors and identical twins&mdash\;one a science nerd\, the other a comic-book geek&mdash\;but with their shared passion for writing\, they combined their mental powers as kids and have never stopped telling stories. They love superheroes\, flawed characters\, and soul-mate love.</p></div></div></div><div style="box-sizing: border-box\; grid-column: 8 / -1\; margin-block-start: 0px\; padding-inline-start: 0.5rem\; color: rgb(64\, 64\, 64)\; font-family: Roboto\, arial\, helvetica\, sans-serif\; font-size: 20.25px\; font-style: normal\; font-variant-ligatures: normal\; font-variant-caps: normal\; font-weight: 400\; letter-spacing: normal\; orphans: 2\; text-align: start\; text-indent: 0px\; text-transform: none\; widows: 2\; word-spacing: 0px\; -webkit-text-stroke-width: 0px\; white-space: normal\; text-decoration-thickness: initial\; text-decoration-style: initial\; text-decoration-color: initial\;"><div style="box-sizing: border-box\; display: block\; font-size: 16px\; inline-size: max-content\; margin-block-end: 10px\;"><br></div></div></div></div></div></div></div></div></div></div></div></div></div></div></div></div></div></div></div></div><div style="box-sizing: border-box\; grid-column: 8 / -1\; margin-block-start: 0px\; padding-inline-start: 0.5rem\; color: rgb(64\, 64\, 64)\; font-family: Roboto\, arial\, helvetica\, sans-serif\; font-size: 20.25px\; font-style: normal\; font-variant-ligatures: normal\; font-variant-caps: normal\; font-weight: 400\; letter-spacing: normal\; orphans: 2\; text-align: start\; text-indent: 0px\; text-transform: none\; widows: 2\; word-spacing: 0px\; -webkit-text-stroke-width: 0px\; white-space: normal\; text-decoration-thickness: initial\; text-decoration-style: initial\; text-decoration-color: initial\;"><br></div></body></html>
LOCATION:80 Stonington Road Suite 8 Mystic CT 06355
UID:e.2955.1446801
SEQUENCE:3
DTSTAMP:20260423T055531Z
URL:https://business.mysticchamber.org/aiworkshop/Details/krista-and-becca-ritchie-dangerously-ours-author-talk-and-signing-1713611?sourceTypeId=Hub
END:VEVENT
END:VCALENDAR
