BEGIN:VCALENDAR
VERSION:2.0
PRODID:-//ChamberMaster//Event Calendar 2.0//EN
METHOD:PUBLISH
X-PUBLISHED-TTL:P1H
REFRESH-INTERVAL:P1H
CALSCALE:GREGORIAN
BEGIN:VTIMEZONE
TZID:America/Montreal
BEGIN:DAYLIGHT
RRULE:FREQ=YEARLY;BYMONTH=3;BYDAY=2SU
DTSTART:20070101T000000
TZOFFSETFROM:-0500
TZOFFSETTO:-0400
TZNAME:Eastern Daylight Time
END:DAYLIGHT
BEGIN:STANDARD
RRULE:FREQ=YEARLY;BYMONTH=11;BYDAY=1SU
DTSTART:20070101T000000
TZOFFSETFROM:-0400
TZOFFSETTO:-0500
TZNAME:Eastern Standard Time
END:STANDARD
END:VTIMEZONE
BEGIN:VEVENT
DTSTART;TZID=America/Montreal:20230708T130000
DTEND;TZID=America/Montreal:20230708T160000
X-MICROSOFT-CDO-ALLDAYEVENT:FALSE
SUMMARY:FLOATSWELLA 2023
DESCRIPTION:The Downtown Mystic Merchants and Greater Mystic Chamber of Commercein partnership with NORTH SWELL presentFLOAT SWELLA 2023  A pop-up paddle-craft only rally on the Mystic RiverWhen: Saturday\, July 8\, 2023 1:00pm to 4:00pm (Rain Date: Sunday\, July 9\, 2023 )Where: Alongside the West Side of the Mystic River\, North of the Historic Bascule Bridge.Float Swella brings together over 300 paddle crafts in the water and scores of people watching and listening to rock/reggae music on land. The event features the music of Natural Element\, Red Lion and DJ Blade Mon. They will be playing on the floating stage tethered to land on Gravel Street\, for all participants to enjoy.Launch Sites:Isham Street: (Just south of Mystic Seaport Shipyard) parking available at the Voting Hall on Broadway Ave32 Water Street: Near DPI\, street parking and Mystic Museum of ArtMystic YMCA: Parking available at YMCARiver Road Boat LaunchFREE and No Registration is required.
X-ALT-DESC;FMTTYPE=text/html:<!DOCTYPE html><html><head><title></title></head><body aria-disabled="false"><p style="text-align: center\;"><span style="color: rgb(184\, 49\, 47)\;"><strong fr-original-style="" style="font-weight: 700\;"><span style="font-size: 18px\; font-family: Georgia\, serif\;">The</span><span style="font-size: 18px\;"><span style="font-family: Georgia\,serif\;">&nbsp\;Downtown Mystic Merchants and&nbsp\;</span></span></strong></span></p><p style="text-align: center\;"><span style="color: rgb(184\, 49\, 47)\;"><strong fr-original-style="" style="font-weight: 700\;"><span style="font-size: 18px\;"><span style="font-family: Georgia\,serif\;">Greater Mystic Chamber of Commerce</span></span></strong></span></p><p style="text-align: center\;"><span style="font-size: 18px\;"><span style="font-family: Georgia\,serif\;"><span style="color: rgb(184\, 49\, 47)\;"><strong fr-original-style="" style="font-weight: 700\;">in partnership with NORTH SWELL present</strong></span></span></span></p><p style="text-align: center\;"><span style="font-size: 30px\;"><span style="font-family: Georgia\,serif\;"><strong fr-original-style="" style="font-weight: 700\;"><span style="background-color: rgb(255\, 255\, 255)\; color: rgb(65\, 168\, 95)\;">FLOAT SWELLA 2023&nbsp\;</span></strong><span style="color: rgb(65\, 168\, 95)\;"><strong fr-original-style="" style="font-weight: 700\;"><span style="background-color: rgb(255\, 255\, 255)\;">&nbsp\;</span></strong></span></span></span></p><p style="text-align: center\;"><span style="font-family: Georgia\,serif\;"><span style="color: rgb(184\, 49\, 47)\;"><strong fr-original-style="" style="font-weight: 700\;"><span style="font-size: 18px\;">A pop-up paddle-craft only rally on the Mystic River</span></strong></span></span></p><p><span style="font-family: Tahoma\, Geneva\, sans-serif\;"><strong fr-original-style="" style="font-weight: 700\;"><span style="font-size: 18px\;">When:</span></strong><span style="font-size: 18px\;">&nbsp\;Saturday\, July 8\, 2023 1:00pm to 4:00pm (Rain Date: Sunday\, July 9\, 2023 )</span></span></p><p><span style="font-family: Tahoma\,Geneva\,sans-serif\;"><span style="font-size: 18px\;"><strong fr-original-style="" style="font-weight: 700\;">Where:</strong> Alongside the West Side of the Mystic River\, North of the Historic Bascule Bridge.</span></span></p><p><span style="font-family: Tahoma\,Geneva\,sans-serif\;"><font><span style="font-size: 18px\;">Float Swella brings together over 300 paddle crafts in the water and scores of people watching and listening to rock/reggae music on land. T<span style="font-family: Tahoma\,Geneva\,sans-serif\;"><span style="font-size: 18px\;">he event features the music of Natural Element\, Red Lion and DJ Blade Mon. They will be playing on the floating stage tethered to land on Gravel Street\, for all participants to enjoy.</span></span></span></font></span></p><p><span style="font-family: Tahoma\,Geneva\,sans-serif\;"><span style="font-size: 18px\;"><strong fr-original-style="" style="font-weight: 700\;">Launch Sites:</strong></span></span></p><ul fr-original-style="" style="list-style-position: inside\;"><li style="font-family: Tahoma\, Geneva\, sans-serif\; font-size: 18px\;">Isham Street: (Just south of Mystic Seaport Shipyard) parking available at the Voting Hall on Broadway Ave</li><li style="font-family: Tahoma\, Geneva\, sans-serif\; font-size: 18px\;">32 Water Street: Near DPI\, street parking and Mystic Museum of Art</li><li style="font-family: Tahoma\, Geneva\, sans-serif\; font-size: 18px\;">Mystic YMCA: Parking available at YMCA</li><li style="font-family: Tahoma\, Geneva\, sans-serif\; font-size: 18px\;">River Road Boat Launch</li></ul><p><span style="font-size: 18px\;"><span style="font-family: Tahoma\, Geneva\, sans-serif\; color: rgb(184\, 49\, 47)\;"><strong fr-original-style="" style="font-weight: 700\;">FREE and No Registration is required.</strong></span></span></p></body></html>
LOCATION:Downtown Mystic Mystic CT 06355
UID:e.2955.820283
SEQUENCE:3
DTSTAMP:20260422T171148Z
URL:https://business.mysticchamber.org/aiworkshop/Details/floatswella-2023-903449?sourceTypeId=Hub
END:VEVENT
END:VCALENDAR
